BEGIN:VCALENDAR
VERSION:2.0
PRODID:-//Ortsfeuerwehr Innenstadt - ECPv6.15.20//NONSGML v1.0//EN
CALSCALE:GREGORIAN
METHOD:PUBLISH
X-ORIGINAL-URL:https://ofw-innenstadt.de
X-WR-CALDESC:Veranstaltungen für Ortsfeuerwehr Innenstadt
REFRESH-INTERVAL;VALUE=DURATION:PT1H
X-Robots-Tag:noindex
X-PUBLISHED-TTL:PT1H
BEGIN:VTIMEZONE
TZID:UTC
BEGIN:STANDARD
TZOFFSETFROM:+0000
TZOFFSETTO:+0000
TZNAME:UTC
DTSTART:20220101T000000
END:STANDARD
END:VTIMEZONE
BEGIN:VEVENT
DTSTART;TZID=UTC:20231217T141500
DTEND;TZID=UTC:20231217T160000
DTSTAMP:20260421T145917
CREATED:20231216T120804Z
LAST-MODIFIED:20231216T123343Z
UID:3066-1702822500-1702828800@ofw-innenstadt.de
SUMMARY:Weihnachtsmann kommt mit der Feuerwehr
DESCRIPTION:❌❌ Kinder aufgepasst ❌❌ \nMorgen (17.12.)  zwischen 14:15 – 16:00 Uhr wird der Weihnachtsmann 🎅 an der Bernauer Straße zu entdecken sein. Da die Weihnachtswichtel noch den Schlitten des Weihnachtsmanns für Heiligabend vorbereiten\, hat er uns um seine Unterstützung gebeten. So werden wir den Weihnachtsmann mit einem geschmückten Feuerwehrfahrzeug helfen\, kleine Überraschungen bereits am 3. Advent zu verteilen.\nKommen Sie gerne mit Ihren Kindern vorbei. \nAn dieser Stelle vielen Dank an unseren Förderverein\, welcher diese Aktion unterstützt.
URL:https://ofw-innenstadt.de/event/weihnachtsmann-kommt-mit-der-feuerwehr/
LOCATION:Bernauer Straße\, Bernauer Str.\, Oranienburg\, Brandenburg\, 16515\, Deutschland
CATEGORIES:Events
ATTACH;FMTTYPE=image/jpeg:https://ofw-innenstadt.de/wp-content/uploads/2023/12/img_4558-1.jpg
ORGANIZER;CN="Ortsfeuerwehr Innenstadt":MAILTO:bugiel@oranienburg.de
END:VEVENT
END:VCALENDAR